BEGIN:VCALENDAR
VERSION:2.0
PRODID:-//ChamberMaster//Event Calendar 2.0//EN
METHOD:PUBLISH
X-PUBLISHED-TTL:P1H
REFRESH-INTERVAL:P1H
CALSCALE:GREGORIAN
BEGIN:VTIMEZONE
TZID:America/Los_Angeles
BEGIN:DAYLIGHT
RRULE:FREQ=YEARLY;BYMONTH=3;BYDAY=2SU
DTSTART:20070101T000000
TZOFFSETFROM:-0800
TZOFFSETTO:-0700
TZNAME:Pacific Daylight Time
END:DAYLIGHT
BEGIN:STANDARD
RRULE:FREQ=YEARLY;BYMONTH=11;BYDAY=1SU
DTSTART:20070101T000000
TZOFFSETFROM:-0700
TZOFFSETTO:-0800
TZNAME:Pacific Standard Time
END:STANDARD
END:VTIMEZONE
BEGIN:VEVENT
DTSTART;VALUE=DATE:20250807
DTEND;VALUE=DATE:20250810
TRANSP:TRANSPARENT
X-MICROSOFT-CDO-ALLDAYEVENT:TRUE
SUMMARY:🧡 2025 ACSO Annual Conference
DESCRIPTION:The ACSO Annual Conference gathers 250-300 orchestra professionals and leaders from California and the Western U.S. It's a friendly and welcoming convening where big ideas meet real-world know-how. It's a backstage pass to the latest trends\, bold conversations\, and breakthrough strategies shaping the future of orchestras.\n\nOver three jam-packed days\, attendees dive into inspiring keynotes\, hands-on breakout sessions\, lively peer forums\, and fun networking events. The conference tackles hot-topics like: Building audiences that keep coming back\; Innovating programming and embracing tech\; Forging powerful community partnerships\; Boosting fundraising and revenue streams\; and Strengthening leadership and governance.\n\nWhether a seasoned maestro or new to the field\, attendees leave with fresh ideas\, new connections\, and practical skills to help orchestras thrive.
X-ALT-DESC;FMTTYPE=text/html:<!DOCTYPE html><html><head><title></title></head><body aria-disabled="false"><p>The ACSO Annual Conference gathers 250-300 orchestra professionals and leaders from California and the Western U.S. It&#39\;s a friendly and welcoming convening where big ideas meet real-world know-how. It&rsquo\;s a backstage pass to the latest trends\, bold conversations\, and breakthrough strategies shaping the future of orchestras.<br><br>Over three jam-packed days\, attendees dive into inspiring keynotes\, hands-on breakout sessions\, lively peer forums\, and fun networking events. The conference tackles hot-topics like: Building audiences that keep coming back\; Innovating programming and embracing tech\; Forging powerful community partnerships\; Boosting fundraising and revenue streams\; and Strengthening leadership and governance.<br><br>Whether a seasoned maestro or new to the field\, attendees leave with fresh ideas\, new connections\, and practical skills to help orchestras thrive.</p></body></html>
LOCATION:3050 Bristol St. Costa Mesa CA 92626
UID:e.4182.1092186
SEQUENCE:3
DTSTAMP:20260420T144926Z
URL:https://associationofcaliforniasymphonyorchestrasacso.growthzoneapp.com/events/Details/2025-acso-annual-conference-1261413?sourceTypeId=Hub
END:VEVENT
END:VCALENDAR
